BEGIN:VCALENDAR
VERSION:2.0
PRODID:icalendar-ruby
CALSCALE:GREGORIAN
METHOD:PUBLISH
BEGIN:VEVENT
DTSTAMP:20260422T222410Z
UID:32-3067974@harvest-ministries.org
DTSTART:20260920T140000Z
DTEND:20260920T160000Z
CLASS:PUBLIC
CREATED:20260422T153634
DESCRIPTION:Youth (Middle School - High School Age) are invited to attend o
 ur weekly youth gatherings.  We have lots to learn\, do and just a great 
 place to be with friends!  Breakfast starts at 10 am and snacks and drink
 s are available throughout our time together.  Bring your friends and joi
 n us...YOU BELONG HERE!
LAST-MODIFIED:20260422T153634
LOCATION:Lower Level Youth Room/Campus
SUMMARY:Sunday Youth Church
URL;VALUE=URI:https://www.harvest-ministries.org/events/sunday-youth-church
 /2026-09-20
ATTACH;FILENAME=Youth .jpg;FMTTYPE=image/jpeg:https://dq5pwpg1q8ru0.cloudfr
 ont.net/2022/03/09/10/52/36/4914cc23-5f02-481b-b660-6884b8004010/Youth%20.
 jpg
END:VEVENT
END:VCALENDAR
