BEGIN:VCALENDAR
VERSION:2.0
PRODID:icalendar-ruby
CALSCALE:GREGORIAN
METHOD:PUBLISH
BEGIN:VEVENT
DTSTAMP:20260424T153238Z
UID:14-3084785@harvest-ministries.org
DTSTART:20231203T153000Z
DTEND:20231203T163000Z
CLASS:PUBLIC
CREATED:20260424T094646
DESCRIPTION:Nursery
LAST-MODIFIED:20260424T094646
LOCATION:Nursery
SUMMARY:Nursery 
URL;VALUE=URI:https://www.harvest-ministries.org/events/nursery/2023-12-03
END:VEVENT
END:VCALENDAR
