BEGIN:VCALENDAR
VERSION:2.0
PRODID:icalendar-ruby
CALSCALE:GREGORIAN
METHOD:PUBLISH
BEGIN:VEVENT
DTSTAMP:20260424T112329Z
UID:14-3083061@harvest-ministries.org
DTSTART:20231119T153000Z
DTEND:20231119T163000Z
CLASS:PUBLIC
CREATED:20260424T065217
DESCRIPTION:Nursery
LAST-MODIFIED:20260424T065217
LOCATION:Nursery
SUMMARY:Nursery 
URL;VALUE=URI:https://www.harvest-ministries.org/events/nursery/2023-11-19
END:VEVENT
END:VCALENDAR
