BEGIN:VCALENDAR
VERSION:2.0
PRODID:icalendar-ruby
CALSCALE:GREGORIAN
METHOD:PUBLISH
BEGIN:VEVENT
DTSTAMP:20260424T063437Z
UID:14-3081336@harvest-ministries.org
DTSTART:20231029T143000Z
DTEND:20231029T153000Z
CLASS:PUBLIC
CREATED:20260423T212440
DESCRIPTION:Nursery
LAST-MODIFIED:20260423T212440
LOCATION:Nursery
SUMMARY:Nursery 
URL;VALUE=URI:https://www.harvest-ministries.org/events/nursery/2023-10-29
END:VEVENT
END:VCALENDAR
