BEGIN:VCALENDAR
VERSION:2.0
PRODID:icalendar-ruby
CALSCALE:GREGORIAN
METHOD:PUBLISH
BEGIN:VEVENT
DTSTAMP:20260422T225748Z
UID:9-3068802@harvest-ministries.org
DTSTART:20260927T130000Z
DTEND:20260927T140000Z
CLASS:PUBLIC
CREATED:20260422T183037
DESCRIPTION:You are welcome to attend an hour of Bible Study.  Enter throu
 gh the upstairs doors and take the elevator to the lower level.  
LAST-MODIFIED:20260422T183037
LOCATION:Lower Level Community Room
SUMMARY:Adult Bible Study
URL;VALUE=URI:https://www.harvest-ministries.org/events/adult-bible-study/2
 026-09-27
ATTACH;FILENAME=Bible study.jpg;FMTTYPE=image/jpeg:https://dq5pwpg1q8ru0.cl
 oudfront.net/2023/12/29/13/59/51/cac2d61b-bd7e-4d04-9e20-df7a8ec47991/Bibl
 e%20study.jpg
END:VEVENT
END:VCALENDAR
